BEGIN:VCALENDAR
VERSION:2.0
PRODID:-//Railroad Museum of Long Island - ECPv6.15.20//NONSGML v1.0//EN
CALSCALE:GREGORIAN
METHOD:PUBLISH
X-ORIGINAL-URL:https://www.rmli.org
X-WR-CALDESC:Events for Railroad Museum of Long Island
REFRESH-INTERVAL;VALUE=DURATION:PT1H
X-Robots-Tag:noindex
X-PUBLISHED-TTL:PT1H
BEGIN:VTIMEZONE
TZID:America/New_York
BEGIN:DAYLIGHT
TZOFFSETFROM:-0500
TZOFFSETTO:-0400
TZNAME:EDT
DTSTART:20240310T070000
END:DAYLIGHT
BEGIN:STANDARD
TZOFFSETFROM:-0400
TZOFFSETTO:-0500
TZNAME:EST
DTSTART:20241103T060000
END:STANDARD
BEGIN:DAYLIGHT
TZOFFSETFROM:-0500
TZOFFSETTO:-0400
TZNAME:EDT
DTSTART:20250309T070000
END:DAYLIGHT
BEGIN:STANDARD
TZOFFSETFROM:-0400
TZOFFSETTO:-0500
TZNAME:EST
DTSTART:20251102T060000
END:STANDARD
BEGIN:DAYLIGHT
TZOFFSETFROM:-0500
TZOFFSETTO:-0400
TZNAME:EDT
DTSTART:20260308T070000
END:DAYLIGHT
BEGIN:STANDARD
TZOFFSETFROM:-0400
TZOFFSETTO:-0500
TZNAME:EST
DTSTART:20261101T060000
END:STANDARD
BEGIN:DAYLIGHT
TZOFFSETFROM:-0500
TZOFFSETTO:-0400
TZNAME:EDT
DTSTART:20270314T070000
END:DAYLIGHT
BEGIN:STANDARD
TZOFFSETFROM:-0400
TZOFFSETTO:-0500
TZNAME:EST
DTSTART:20271107T060000
END:STANDARD
END:VTIMEZONE
BEGIN:VEVENT
DTSTART;TZID=America/New_York:20250629T100000
DTEND;TZID=America/New_York:20250629T160000
DTSTAMP:20260419T105506
CREATED:20250522T210342Z
LAST-MODIFIED:20250522T211414Z
UID:7112-1751191200-1751212800@www.rmli.org
SUMMARY:North Western Modelers ~ Engine 39's 96th Birthday Celebration
DESCRIPTION: 
URL:https://www.rmli.org/event/north-western-modelers-engine-39s-96th-birthday-celebration/
LOCATION:Railroad Museum of Long Island\, Riverhead\, 416 Griffing Avenue\, Riverhead\, NY\, 11901\, United States
CATEGORIES:Exhibit
ATTACH;FMTTYPE=image/jpeg:https://www.rmli.org/wp-content/uploads/2025/05/N-W-Modelers.jpg
ORGANIZER;CN="Railroad Museum of Long Island":MAILTO:info@rmli.org
END:VEVENT
BEGIN:VEVENT
DTSTART;TZID=America/New_York:20250823T100000
DTEND;TZID=America/New_York:20250823T160000
DTSTAMP:20260419T105506
CREATED:20250731T204235Z
LAST-MODIFIED:20250731T204856Z
UID:7757-1755943200-1755964800@www.rmli.org
SUMMARY:Riverhead Railroad Festival 2025
DESCRIPTION:
URL:https://www.rmli.org/event/riverhead-railroad-festival-2025/
LOCATION:Railroad Museum of Long Island\, Riverhead\, 416 Griffing Avenue\, Riverhead\, NY\, 11901\, United States
CATEGORIES:Exhibit,Flea Market,Performance
ATTACH;FMTTYPE=image/jpeg:https://www.rmli.org/wp-content/uploads/2025/07/2025-RRF-announcement-at-7.5-x.jpg
ORGANIZER;CN="Railroad Museum of Long Island":MAILTO:info@rmli.org
END:VEVENT
BEGIN:VEVENT
DTSTART;TZID=America/New_York:20250824T100000
DTEND;TZID=America/New_York:20250824T160000
DTSTAMP:20260419T105506
CREATED:20250731T205208Z
LAST-MODIFIED:20250731T205208Z
UID:7761-1756029600-1756051200@www.rmli.org
SUMMARY:Riverhead Railroad Festival 2025
DESCRIPTION:
URL:https://www.rmli.org/event/riverhead-railroad-festival-2025-2/
LOCATION:Railroad Museum of Long Island\, Riverhead\, 416 Griffing Avenue\, Riverhead\, NY\, 11901\, United States
CATEGORIES:Exhibit,Flea Market,Performance
ATTACH;FMTTYPE=image/jpeg:https://www.rmli.org/wp-content/uploads/2025/07/2025-RRF-announcement-at-7.5-x.jpg
ORGANIZER;CN="Railroad Museum of Long Island":MAILTO:info@rmli.org
END:VEVENT
BEGIN:VEVENT
DTSTART;TZID=America/New_York:20250913T100000
DTEND;TZID=America/New_York:20250913T160000
DTSTAMP:20260419T105506
CREATED:20250516T013522Z
LAST-MODIFIED:20250809T192156Z
UID:7009-1757757600-1757779200@www.rmli.org
SUMMARY:Wooden Toy Train Play Days
DESCRIPTION: 
URL:https://www.rmli.org/event/wooden-toy-train-play-days-5/
LOCATION:Railroad Museum of Long Island\, Riverhead\, 416 Griffing Avenue\, Riverhead\, NY\, 11901\, United States
CATEGORIES:Exhibit
ATTACH;FMTTYPE=image/jpeg:https://www.rmli.org/wp-content/uploads/2025/05/2025-TPD-poster-cropped.jpg
ORGANIZER;CN="Railroad Museum of Long Island":MAILTO:info@rmli.org
END:VEVENT
BEGIN:VEVENT
DTSTART;TZID=America/New_York:20250914T100000
DTEND;TZID=America/New_York:20250914T160000
DTSTAMP:20260419T105506
CREATED:20250516T013555Z
LAST-MODIFIED:20250809T192020Z
UID:7011-1757844000-1757865600@www.rmli.org
SUMMARY:Wooden Toy Train Play Days
DESCRIPTION: 
URL:https://www.rmli.org/event/wooden-toy-train-play-days-6/
LOCATION:Railroad Museum of Long Island\, Riverhead\, 416 Griffing Avenue\, Riverhead\, NY\, 11901\, United States
CATEGORIES:Exhibit
ATTACH;FMTTYPE=image/jpeg:https://www.rmli.org/wp-content/uploads/2025/05/2025-TPD-poster-cropped.jpg
ORGANIZER;CN="Railroad Museum of Long Island":MAILTO:info@rmli.org
END:VEVENT
BEGIN:VEVENT
DTSTART;TZID=America/New_York:20250921T140000
DTEND;TZID=America/New_York:20250921T153000
DTSTAMP:20260419T105506
CREATED:20250731T211603Z
LAST-MODIFIED:20250731T212408Z
UID:7765-1758463200-1758468600@www.rmli.org
SUMMARY:Concert in the Boxcar - Vincent Quatroche
DESCRIPTION: 
URL:https://www.rmli.org/event/concert-in-the-boxcar-vincent-quatroche/
LOCATION:Railroad Museum of Long Island\, Greenport\, 440 - 4th Street\, Greenport\, NY\, 11944\, United States
CATEGORIES:Performance
ATTACH;FMTTYPE=image/jpeg:https://www.rmli.org/wp-content/uploads/2025/07/jimmy-quatroche-at-7.5-scaled.jpg
ORGANIZER;CN="Railroad Museum of Long Island":MAILTO:info@rmli.org
END:VEVENT
BEGIN:VEVENT
DTSTART;TZID=America/New_York:20250927T110000
DTEND;TZID=America/New_York:20250927T160000
DTSTAMP:20260419T105506
CREATED:20250731T213734Z
LAST-MODIFIED:20250731T214351Z
UID:7772-1758970800-1758988800@www.rmli.org
SUMMARY:Sunrise Hi-Railers
DESCRIPTION:.          We are pleased to announce a series of “Summer Weekend ~ Mini Events” by Long Island train clubs at our Riverhead Museum site\, 416 Griffing Avenue.  Club members will exhibit their train layout under our Big Top tent alongside Caboose C-68. \n.          On Saturday and Sunday\, September 27 & 28\, we will host the Sunrise Hi-Railers O scale train club.  Trains will run from 11:00 AM to 3:00 PM each day. \n.          Visit the Sunrise Hi-Railers on Facebook here: \n.          https://www.facebook.com/groups/1651834298428202.
URL:https://www.rmli.org/event/sunrise-hi-railers-3/
LOCATION:Railroad Museum of Long Island\, Riverhead\, 416 Griffing Avenue\, Riverhead\, NY\, 11901\, United States
CATEGORIES:Exhibit
ATTACH;FMTTYPE=image/jpeg:https://www.rmli.org/wp-content/uploads/2025/05/Sunrise-Hi-Railers-logo.jpg
ORGANIZER;CN="Railroad Museum of Long Island":MAILTO:info@rmli.org
END:VEVENT
BEGIN:VEVENT
DTSTART;TZID=America/New_York:20250928T110000
DTEND;TZID=America/New_York:20250928T160000
DTSTAMP:20260419T105506
CREATED:20250731T214305Z
LAST-MODIFIED:20250731T214305Z
UID:7776-1759057200-1759075200@www.rmli.org
SUMMARY:Sunrise Hi-Railers
DESCRIPTION:.          We are pleased to announce a series of “Summer Weekend ~ Mini Events” by Long Island train clubs at our Riverhead Museum site\, 416 Griffing Avenue.  Club members will exhibit their train layout under our Big Top tent alongside Caboose C-68. \n.          On Saturday and Sunday\, September 27 & 28\, we will host the Sunrise Hi-Railers O scale train club.  Trains will run from 11:00 AM to 3:00 PM each day. \n.          Visit the Sunrise Hi-Railers on Facebook here: \n.          https://www.facebook.com/groups/1651834298428202.
URL:https://www.rmli.org/event/sunrise-hi-railers-4/
LOCATION:Railroad Museum of Long Island\, Riverhead\, 416 Griffing Avenue\, Riverhead\, NY\, 11901\, United States
CATEGORIES:Exhibit
ATTACH;FMTTYPE=image/jpeg:https://www.rmli.org/wp-content/uploads/2025/05/Sunrise-Hi-Railers-logo.jpg
ORGANIZER;CN="Railroad Museum of Long Island":MAILTO:info@rmli.org
END:VEVENT
BEGIN:VEVENT
DTSTART;TZID=America/New_York:20251019T140000
DTEND;TZID=America/New_York:20251019T153000
DTSTAMP:20260419T105506
CREATED:20250731T211948Z
LAST-MODIFIED:20251012T020002Z
UID:7768-1760882400-1760887800@www.rmli.org
SUMMARY:Concert in the Boxcar - Mudflats
DESCRIPTION:
URL:https://www.rmli.org/event/concert-in-the-boxcar-mudflats/
LOCATION:Railroad Museum of Long Island\, Greenport\, 440 - 4th Street\, Greenport\, NY\, 11944\, United States
CATEGORIES:Performance
ATTACH;FMTTYPE=image/jpeg:https://www.rmli.org/wp-content/uploads/2025/07/mudflats_poster-1-scaled.jpg
ORGANIZER;CN="Railroad Museum of Long Island":MAILTO:info@rmli.org
END:VEVENT
BEGIN:VEVENT
DTSTART;TZID=America/New_York:20251206T113000
DTEND;TZID=America/New_York:20251206T150000
DTSTAMP:20260419T105506
CREATED:20251103T230012Z
LAST-MODIFIED:20251103T230012Z
UID:8738-1765020600-1765033200@www.rmli.org
SUMMARY:Riverhead RMLI Holiday Open House
DESCRIPTION:
URL:https://www.rmli.org/event/riverhead-rmli-holiday-open-house/
LOCATION:Railroad Museum of Long Island\, Riverhead\, 416 Griffing Avenue\, Riverhead\, NY\, 11901\, United States
CATEGORIES:Open House
ORGANIZER;CN="Railroad Museum of Long Island":MAILTO:info@rmli.org
END:VEVENT
BEGIN:VEVENT
DTSTART;TZID=America/New_York:20251207T113000
DTEND;TZID=America/New_York:20251207T150000
DTSTAMP:20260419T105506
CREATED:20251103T230411Z
LAST-MODIFIED:20251103T230411Z
UID:8742-1765107000-1765119600@www.rmli.org
SUMMARY:Riverhead RMLI Holiday Open House
DESCRIPTION: 
URL:https://www.rmli.org/event/riverhead-rmli-holiday-open-house-2/
LOCATION:Railroad Museum of Long Island\, Riverhead\, 416 Griffing Avenue\, Riverhead\, NY\, 11901\, United States
CATEGORIES:Open House
ORGANIZER;CN="Railroad Museum of Long Island":MAILTO:info@rmli.org
END:VEVENT
BEGIN:VEVENT
DTSTART;TZID=America/New_York:20251213T103000
DTEND;TZID=America/New_York:20251213T140000
DTSTAMP:20260419T105506
CREATED:20251103T230846Z
LAST-MODIFIED:20251103T230846Z
UID:8744-1765621800-1765634400@www.rmli.org
SUMMARY:Greenport RMLI Holiday Open House
DESCRIPTION:
URL:https://www.rmli.org/event/greenport-rmli-holiday-open-house/
LOCATION:Railroad Museum of Long Island\, Greenport\, 440 - 4th Street\, Greenport\, NY\, 11944\, United States
CATEGORIES:Open House
ORGANIZER;CN="Railroad Museum of Long Island":MAILTO:info@rmli.org
END:VEVENT
BEGIN:VEVENT
DTSTART;TZID=America/New_York:20251214T103000
DTEND;TZID=America/New_York:20251214T140000
DTSTAMP:20260419T105506
CREATED:20251103T231127Z
LAST-MODIFIED:20251103T231127Z
UID:8746-1765708200-1765720800@www.rmli.org
SUMMARY:Greenport RMLI Holiday Open House
DESCRIPTION:
URL:https://www.rmli.org/event/greenport-rmli-holiday-open-house-2/
LOCATION:Railroad Museum of Long Island\, Greenport\, 440 - 4th Street\, Greenport\, NY\, 11944\, United States
CATEGORIES:Open House
ORGANIZER;CN="Railroad Museum of Long Island":MAILTO:info@rmli.org
END:VEVENT
BEGIN:VEVENT
DTSTART;TZID=America/New_York:20260221T120000
DTEND;TZID=America/New_York:20260221T163000
DTSTAMP:20260419T105506
CREATED:20260217T232331Z
LAST-MODIFIED:20260217T232331Z
UID:10140-1771675200-1771691400@www.rmli.org
SUMMARY:Toy Train Outreach at Farmingdale Public Library
DESCRIPTION:
URL:https://www.rmli.org/event/toy-train-outreach-at-farmingdale-public-library/
LOCATION:Farmingdale Public Library\, 116 Merritts Rd\, Farmingdale\, NY\, 11735\, United States
CATEGORIES:Exhibit
ORGANIZER;CN="Railroad Museum of Long Island":MAILTO:info@rmli.org
END:VEVENT
BEGIN:VEVENT
DTSTART;TZID=America/New_York:20260222T130000
DTEND;TZID=America/New_York:20260222T153000
DTSTAMP:20260419T105506
CREATED:20260217T232929Z
LAST-MODIFIED:20260222T033512Z
UID:10146-1771765200-1771774200@www.rmli.org
SUMMARY:Toy Train Outreach at Farmingdale Public Library
DESCRIPTION:
URL:https://www.rmli.org/event/toy-train-outreach-at-farmingdale-public-library-2/
LOCATION:Farmingdale Public Library\, 116 Merritts Rd\, Farmingdale\, NY\, 11735\, United States
CATEGORIES:Exhibit
ORGANIZER;CN="Railroad Museum of Long Island":MAILTO:info@rmli.org
END:VEVENT
END:VCALENDAR